BEGIN:VCALENDAR
VERSION:2.0
PRODID:Events Booking
BEGIN:VEVENT
UID:69e98a239ffc0
SUMMARY:Chess: Intermediate Continuation Class - All Ages P <span>E961 </sp
 an>
DESCRIPTION:Prerequisite: Fundamentals of Chess When: Tuesdays from 11:00
 –12:00 pm\, April 7–May 12 New time: Wednesdays from 12:00–1:00 pm\,
  April 8–May 13 Where: Online
 Intermediate chess course is for student
 s who want to learn complex concepts&nbsp\;that revolve around seeing at l
 east&nbsp\;2 moves ahead or more. This challenging 6 week course helps stu
 dents reach their full potential as they master all fundamentals&nbsp\;and
  start visualizing multiple variations. Classes can only be taken by stude
 nts who took the beginner&nbsp\;chess class offered by WISDOM or for stude
 nts who contacted Mr Bloom directly&nbsp\;to verify skill level.
DTSTART:20260408T180000Z
DTEND:20260513T070000Z
DTSTAMP:20260423T025531Z
ORGANIZER;CN=WISDOM Home Schooling:MAILTO:no-reply@wisdomhomeschooling.com
END:VEVENT
BEGIN:VEVENT
UID:69e98a23a0207
SUMMARY:Financial WISDOM: Money & Finance Made Easy <span>E1082</span>
DESCRIPTION:When: Fridays\, 9–10 a.m.: April 17 (April 17\, April 24\, Ma
 y 1\, May 8\, May 15\, and May 22) Who: Grade 9 and up Cost: $295 Where: O
 nline via Microsoft Teams
 Money and Finance Made Easy: Money can be a my
 stery. What is it? How does it work? How do I earn it? How do I save it? H
 ow do I invest it? Whether we like it or not\, money affects us all and is
  essential to our lives in the twenty-first century. In this course\, Trav
 is Callaway will make money and the financial decisions we all encounter s
 imple to understand\, using practical examples and real-life scenarios to 
 help students prepare for their financial futures. The course includes six
  lessons\, each focusing on a separate piece of the overall financial puzz
 le:
 
 What Is Money\, and How Does It Work?
 Banking Basics
 Budgetin
 g and Spending Wisely
 Credit\, Debt\, and Credit Cards
 Saving and Inve
 sting for the Future
 Real-World Financial Decisions
 
 Travis earned a
 n MBA in finance from Durham University and holds the Chartered Financial 
 Analyst designation. He has worked as a private equity analyst\, a senior 
 portfolio management analyst\, a director of private equity\, a managing d
 irector of venture capital\, the vice president of finance for a technolog
 y start-up\, and a part-time chief financial officer for several companies
 . He is an active investor in start-up companies\, the co-founder of a fin
 ance advisory business\, and teaches business and finance at the Universit
 y of Calgary and Mount Royal University.
 A minimum of five registrants i
 s required for this workshop to run\, so please spread the word.
DTSTART:20260417T150000Z
DTEND:20260522T163000Z
DTSTAMP:20260423T025531Z
ORGANIZER;CN=WISDOM Home Schooling:MAILTO:no-reply@wisdomhomeschooling.com
END:VEVENT
BEGIN:VEVENT
UID:69e98a23a02ea
SUMMARY:Axes and Knives - Edmonton <span>E1076</span>
DESCRIPTION:When: 22 April\, 1:00–3:00 p.m. Where:&nbsp\;Edmonton - Sir W
 ilfred Laurier Park (Site 7) 
DTSTART:20260422T190000Z
DTEND:20260422T210000Z
DTSTAMP:20260423T025531Z
ORGANIZER;CN=WISDOM Home Schooling:MAILTO:no-reply@wisdomhomeschooling.com
END:VEVENT
BEGIN:VEVENT
UID:69e98a23a03a9
SUMMARY:CLT 10 (College Preparatory Exam & Grade 9-10 Assessment) - April
DESCRIPTION:The Classical Learning Test 10 (CLT10) is for students in grade
 s 10 or 11. These tests focus on numeracy and literacy\, and can be a usef
 ul evaluation tool\, as well as a CLT preparatory exam. CLT can be conveni
 ently accessed from home.&nbsp\;
 
 For students in grades 9-10
 Colleg
 e preparatory exam&nbsp\;
 Free and unlimited score sharing&nbsp\;
 Diag
 nostic and summative exams to track growth and provide academic assessment
 
 Norm-Referenced
 Online format - Parent Proctored
 Length: 2hrs (plus
  up to 30 mins proctor instructions)
 
DTSTART:20260423T060000Z
DTSTAMP:20260423T025531Z
ORGANIZER;CN=WISDOM Home Schooling:MAILTO:no-reply@wisdomhomeschooling.com
END:VEVENT
BEGIN:VEVENT
UID:69e98a23a0424
SUMMARY:ML: Challenges - St Albert A <span>E1039</span>
DESCRIPTION:When: April 23\, 10 a.m.–3 p.m.Where:&nbsp\;Edmonton - St. An
 thony’s&nbsp\;10425 - 84 AveNew location:&nbsp\;St. Albert Alliance Chur
 ch\, 200 Villeneuve Road
DTSTART:20260423T160000Z
DTEND:20260423T210000Z
DTSTAMP:20260423T025531Z
ORGANIZER;CN=WISDOM Home Schooling:MAILTO:no-reply@wisdomhomeschooling.com
END:VEVENT
BEGIN:VEVENT
UID:69e98a23a04e6
SUMMARY:Axes and Knives - Lethbridge <span>E1078</span>
DESCRIPTION:When: 27 April\, 1:00–3:00 p.m. Where:&nbsp\;Lethbridge - Ind
 ian Battle Park&nbsp\;(Alberta Shelter)
DTSTART:20260427T190000Z
DTEND:20260427T210000Z
DTSTAMP:20260423T025531Z
ORGANIZER;CN=WISDOM Home Schooling:MAILTO:no-reply@wisdomhomeschooling.com
END:VEVENT
BEGIN:VEVENT
UID:69e98a23a05d1
SUMMARY:Axes and Knives - Calgary <span>E1079</span>
DESCRIPTION:When:&nbsp\;29 April\, 1:00–3:00 p.m. Where:&nbsp\;Edworthy P
 ark (Site 1) &nbsp\;https://share.google/UzKKAVkWFTa7KciAX
DTSTART:20260429T190000Z
DTEND:20260429T210000Z
DTSTAMP:20260423T025531Z
ORGANIZER;CN=WISDOM Home Schooling:MAILTO:no-reply@wisdomhomeschooling.com
END:VEVENT
BEGIN:VEVENT
UID:69e98a23a06ac
SUMMARY:Mediated Learning Foundations - Medicine Hat <span>E1086</span>
DESCRIPTION:When:&nbsp\;30 April\, 10:00 a.m.–3:00 p.m.Where:&nbsp\;Medic
 ine Hat (venue to be confirmed)&nbsp\;
DTSTART:20260430T160000Z
DTEND:20260430T210000Z
DTSTAMP:20260423T025531Z
ORGANIZER;CN=WISDOM Home Schooling:MAILTO:no-reply@wisdomhomeschooling.com
END:VEVENT
BEGIN:VEVENT
UID:69e98a23a0770
SUMMARY:ML: Challenges - Calgary A <span>E1040</span>
DESCRIPTION:When: 30 April\, 10 a.m.–3 p.m.New Date:&nbsp\;1 May\, 10 a.m
 .–3 p.m. Where: Calgary -&nbsp\;St. John the Evangelist&nbsp\;1423 8 Ave
 nue SE
DTSTART:20260501T160000Z
DTEND:20260501T210000Z
DTSTAMP:20260423T025531Z
ORGANIZER;CN=WISDOM Home Schooling:MAILTO:no-reply@wisdomhomeschooling.com
END:VEVENT
BEGIN:VEVENT
UID:69e98a23a085e
SUMMARY:Beginner Ballroom Dance Workshop - Rycroft <span>E1104</span>
DESCRIPTION:When: May 2\, 9:30 a.m. sign-in\; 10:00 a.m. workshop begins. W
 here: Rycroft Hall\, 5208 47 Ave.\, Rycroft
 Our ballroom dance workshops
  are a great place to have fun while learning the basics of ballroom danci
 ng. You will not only learn the basics—like how to waltz\, rumba\, foxtr
 ot\, and jive—but instructors Mike and Michele Barter will also teach ba
 llroom etiquette. These workshops have trained several generations of home
 schoolers in the art of ballroom dance. Students and parents benefit from 
 the training in social graces as well as the opportunity to spend time wit
 h other homeschoolers.
 This is not a drop-off programme. Students not ac
 companied by an adult will not be able to participate.
 Anyone under the 
 age of 18 must have a registered parent or guardian present at the worksho
 p or ball.
 Open to non-WISDOM families\; WISDOM families take precedence
 .
DTSTART:20260502T153000Z
DTEND:20260503T040000Z
DTSTAMP:20260423T025531Z
ORGANIZER;CN=WISDOM Home Schooling:MAILTO:no-reply@wisdomhomeschooling.com
END:VEVENT
BEGIN:VEVENT
UID:69e98a23a0924
SUMMARY:Fundamentals of Chess - All Ages U <span>E965 </span>
DESCRIPTION:When:&nbsp\;Tuesdays from 9:00 - 10:00am May 6 - June 17Where: 
 Online
 Does your child love to play chess? This six-week program is a un
 ique opportunity to play the game while improving skills in&nbsp\;Problem 
 Solving\, Deductive Reasoning and Creative Thinking&nbsp\;by solving chess
  puzzles and executing a systematic process to beat your opponent.
 While
  this program is called \"beginner\" it will challenge your chess player a
 nd keep them engaged\, even if they have been playing for years.
DTSTART:20260506T150000Z
DTEND:20260506T160000Z
DTSTAMP:20260423T025531Z
ORGANIZER;CN=WISDOM Home Schooling:MAILTO:no-reply@wisdomhomeschooling.com
END:VEVENT
BEGIN:VEVENT
UID:69e98a23a0a9d
SUMMARY:Mediated Learning Behaviour - Camrose <span>E1093</span>
DESCRIPTION:When:&nbsp\;7 May\, 10 a.m.–3 p.m. Where: Resurrection Luther
 an Brethren Church\, Camrose
DTSTART:20260507T160000Z
DTEND:20260507T210000Z
DTSTAMP:20260423T025531Z
ORGANIZER;CN=WISDOM Home Schooling:MAILTO:no-reply@wisdomhomeschooling.com
END:VEVENT
BEGIN:VEVENT
UID:69e98a23a0b58
SUMMARY:Survival Kits - Red Deer <span>E1087</span>
DESCRIPTION:When:&nbsp\;11 May\, 1:00–3:00 p.m. Where: Red Deer – Kin K
 anyon
DTSTART:20260511T190000Z
DTEND:20260511T210000Z
DTSTAMP:20260423T025531Z
ORGANIZER;CN=WISDOM Home Schooling:MAILTO:no-reply@wisdomhomeschooling.com
END:VEVENT
BEGIN:VEVENT
UID:69e98a23a0c13
SUMMARY:Survival Kits - Stony Plain <span>E1088</span>
DESCRIPTION:When:&nbsp\;12 May\, 1:00–3:00 p.m. Where:&nbsp\;Stony Plain 
 - Chickakoo Recreation Area (Meet at upper Parking Lot) &nbsp\;https://map
 s.app.goo.gl/2ZLaQ6nLsXGgeL9E7&nbsp\;&nbsp\;
DTSTART:20260512T190000Z
DTEND:20260512T210000Z
DTSTAMP:20260423T025531Z
ORGANIZER;CN=WISDOM Home Schooling:MAILTO:no-reply@wisdomhomeschooling.com
END:VEVENT
BEGIN:VEVENT
UID:69e98a23a0cd1
SUMMARY:ML: Reading and Math - Online <span>E1059</span>
DESCRIPTION:When: 12 and 14 May\, 7:00–9:00 p.m. Where: Online
DTSTART:20260513T010000Z
DTEND:20260513T030000Z
DTSTAMP:20260423T025531Z
ORGANIZER;CN=WISDOM Home Schooling:MAILTO:no-reply@wisdomhomeschooling.com
END:VEVENT
BEGIN:VEVENT
UID:69e98a23a0dac
SUMMARY:Survival Kits - Edmonton <span>E1089</span>
DESCRIPTION:When:&nbsp\;13 May\, 1:00–3:00 p.m. Where:&nbsp\;Edmonton - S
 ir Wilfred Laurier Park (Site 7) 
DTSTART:20260513T190000Z
DTEND:20260513T210000Z
DTSTAMP:20260423T025531Z
ORGANIZER;CN=WISDOM Home Schooling:MAILTO:no-reply@wisdomhomeschooling.com
END:VEVENT
BEGIN:VEVENT
UID:69e98a23a0e7b
SUMMARY:ML: Behaviour - Grande Prairie <span>E1105</span>
DESCRIPTION:When:&nbsp\;15 May\, 10:00 a.m.–3:00 p.m. Where: Christ Commu
 nity Church\, Grande Prairie
DTSTART:20260515T160000Z
DTEND:20260515T210000Z
DTSTAMP:20260423T025531Z
ORGANIZER;CN=WISDOM Home Schooling:MAILTO:no-reply@wisdomhomeschooling.com
END:VEVENT
BEGIN:VEVENT
UID:69e98a23a0f41
SUMMARY:CLT (College Entrance Exam & Grade 11-12 Assessment) May
DESCRIPTION:The Classical Learning Test (CLT) is a post-secondary entrance 
 exam\, created as an alternative to the SAT and recognized at many post-se
 condary institutions across the United States\, and a growing number in Ca
 nada.
 
 For students in grades 11-12
 College entrance exam
 Online f
 ormat
 Length: 2hrs (plus up to 30 mins proctor instructions)
 Free and 
 unlimited score sharing
 CLT partner colleges offer over $100 million in 
 scholarships
 
DTSTART:20260516T060000Z
DTSTAMP:20260423T025531Z
ORGANIZER;CN=WISDOM Home Schooling:MAILTO:no-reply@wisdomhomeschooling.com
END:VEVENT
BEGIN:VEVENT
UID:69e98a23a0fb9
SUMMARY:Indoor Rock Wall Climbing - Edmonton R <span>E1094</span>
DESCRIPTION:When:&nbsp\;May 19 from 10 - 12pmWhere:&nbsp\;Vertically Inclin
 ed 8523 Argyll Road Edmonton\, Alberta
 Aimed towards the first-timer\, t
 his 2 hour session allows participants to learn about the sport of climbin
 g through hands-on (and feet-on) skills.
 Ages 6 and up.&nbsp\;This is no
 t a drop off program. If your student is not accompanied by an adult\, the
 y will not be able to participate in the program. Parents may register and
  climb as well if they wish.&nbsp\;
 Climbing shoes will be provided for 
 sessions. Participants can bring in comfortable clothes\, and socks to wea
 r in the climbing shoes.
 A waiver from Vertically Inclined will be sent 
 with the registration confirmation.&nbsp\;Please fill out one for each cli
 mber and send them back!
DTSTART:20260519T160000Z
DTEND:20260519T180000Z
DTSTAMP:20260423T025531Z
ORGANIZER;CN=WISDOM Home Schooling:MAILTO:no-reply@wisdomhomeschooling.com
END:VEVENT
BEGIN:VEVENT
UID:69e98a23a107f
SUMMARY:Chess: Advanced Continuation Class C - All Ages <span>E966 </span>
DESCRIPTION:Prerequisite: Chess: Intermediate Continuation Class&nbsp\;When
 : Tuesdays from 11:00 - 12:00pm May 19 - June 23Where: Online
 This Works
 hop is for students who have completed the beginner&nbsp\;and intermediate
  chess workshops and are ready for some fine tuning to their skills.&nbsp\
 ;
 Students have learned core chess concepts\, while solving puzzles to i
 mprove problem solving skills . In Advanced Chess\, it's time to put those
  skills into action. This class focuses on real-time game playing with per
 sonalized coaching\, and adds in new concepts that take the game to the ne
 xt level.
DTSTART:20260519T190000Z
DTEND:20260519T200000Z
DTSTAMP:20260423T025531Z
ORGANIZER;CN=WISDOM Home Schooling:MAILTO:no-reply@wisdomhomeschooling.com
END:VEVENT
BEGIN:VEVENT
UID:69e98a23a113e
SUMMARY:Survival Kits - Calgary <span>E1090</span>
DESCRIPTION:When:&nbsp\;19 May\, 1-3pmWhere:&nbsp\;Calgary - Edworthy Park 
 (Site 1) &nbsp\;https://share.google/UzKKAVkWFTa7KciAX
 &nbsp\;
DTSTART:20260519T190000Z
DTEND:20260519T210000Z
DTSTAMP:20260423T025531Z
ORGANIZER;CN=WISDOM Home Schooling:MAILTO:no-reply@wisdomhomeschooling.com
END:VEVENT
BEGIN:VEVENT
UID:69e98a23a11ed
SUMMARY:ML: High School - Online A <span>E1046</span>
DESCRIPTION:Jumpstart Your Path to Success!
 When: 19 and 26 May\, 7–9 p
 .m. Where: Online For high school students (14+) and parents.
DTSTART:20260520T010000Z
DTEND:20260520T030000Z
DTSTAMP:20260423T025531Z
ORGANIZER;CN=WISDOM Home Schooling:MAILTO:no-reply@wisdomhomeschooling.com
END:VEVENT
BEGIN:VEVENT
UID:69e98a23a12c6
SUMMARY:Chess: Intermediate Continuation Class - All Ages Q <span>E967 </sp
 an>
DESCRIPTION:Prerequisite: Fundamentals of ChessWhen: Wednesdays from 11:00 
 - 12:00pm May 20 - June 24Where: Online
 Intermediate chess course is for
  students who want to learn complex concepts&nbsp\;that revolve around see
 ing at least&nbsp\;2 moves ahead or more. This challenging 6 week course h
 elps students reach their full potential as they master all fundamentals&n
 bsp\;and start visualizing multiple variations. Classes can only be taken 
 by students who took the beginner&nbsp\;chess class offered by WISDOM or f
 or students who contacted Mr Bloom directly&nbsp\;to verify skill level.
DTSTART:20260520T160000Z
DTEND:20260520T170000Z
DTSTAMP:20260423T025531Z
ORGANIZER;CN=WISDOM Home Schooling:MAILTO:no-reply@wisdomhomeschooling.com
END:VEVENT
BEGIN:VEVENT
UID:69e98a23a1388
SUMMARY:ML: High School - St Albert A <span>E1047</span>
DESCRIPTION:Jumpstart Your Path to Success!
 When: 21 May\, 10 a.m.–3 p.
 m. Where:&nbsp\;Edmonton - St. Anthony’s&nbsp\;10425 - 84 AveNew locatio
 n:&nbsp\;St. Albert Alliance Church\, 200 Villeneuve Road For high school 
 students (14+) and parents.
DTSTART:20260521T190000Z
DTEND:20260521T210000Z
DTSTAMP:20260423T025531Z
ORGANIZER;CN=WISDOM Home Schooling:MAILTO:no-reply@wisdomhomeschooling.com
END:VEVENT
BEGIN:VEVENT
UID:69e98a23a1454
SUMMARY:Survival Kits - Lethbridge <span>E1091</span>
DESCRIPTION:When:&nbsp\;25 May\, 1:00–3:00 p.m. Where:&nbsp\;Lethbridge -
  Indian Battle Park&nbsp\;(Alberta Shelter)
DTSTART:20260525T190000Z
DTEND:20260525T210000Z
DTSTAMP:20260423T025531Z
ORGANIZER;CN=WISDOM Home Schooling:MAILTO:no-reply@wisdomhomeschooling.com
END:VEVENT
BEGIN:VEVENT
UID:69e98a23a1523
SUMMARY:Indoor Rock Wall Climbing - Edmonton S <span>E1095</span>
DESCRIPTION:When:&nbsp\;May 26 from 10 - 12pmWhere:&nbsp\;Vertically Inclin
 ed 8523 Argyll Road Edmonton\, Alberta
 Aimed towards the first-timer\, t
 his 2 hour session allows participants to learn about the sport of climbin
 g through hands-on (and feet-on) skills.
 Ages 6 and up.&nbsp\;This is no
 t a drop off program. If your student is not accompanied by an adult\, the
 y will not be able to participate in the program. Parents may register and
  climb as well if they wish.&nbsp\;
 Climbing shoes will be provided for 
 sessions. Participants can bring in comfortable clothes\, and socks to wea
 r in the climbing shoes.
 A waiver from Vertically Inclined will be sent 
 with the registration confirmation.&nbsp\;Please fill out one for each cli
 mber and send them back!
DTSTART:20260526T160000Z
DTEND:20260526T180000Z
DTSTAMP:20260423T025531Z
ORGANIZER;CN=WISDOM Home Schooling:MAILTO:no-reply@wisdomhomeschooling.com
END:VEVENT
BEGIN:VEVENT
UID:69e98a23a160a
SUMMARY:ML: High School - Calgary A
DESCRIPTION:Jumpstart Your Path to Success!
 When: 28 May\, 10 a.m.–3 p.
 m.NEW DATE:&nbsp\;27 May\, 10 a.m.–3 p.m.Where: Calgary - St. John the E
 vangelist 1423 8 Avenue SE For high school students (14+) and parents.
DTSTART:20260527T160000Z
DTEND:20260527T210000Z
DTSTAMP:20260423T025531Z
ORGANIZER;CN=WISDOM Home Schooling:MAILTO:no-reply@wisdomhomeschooling.com
END:VEVENT
BEGIN:VEVENT
UID:69e98a23a16dd
SUMMARY:Beginner Ballroom Dance Workshop - Spruce Grove D <span>E991 </span
 >
DESCRIPTION:When:&nbsp\;May 30 9:30 sign in\, 10am workshop begins.Where:&n
 bsp\;Holy Trinity Catholic Church\, Spruce Grove
 Our ballroom dance&nbsp
 \;workshops are a great place to have fun while learning the basics of&nbs
 p\;ballroom dancing. You will not only learn the basics - like how to walt
 z\,&nbsp\;rumba\, fox trot and jive - instructors Mike and Michele Barter 
 will also teach&nbsp\;ballroom etiquette. These workshops have trained sev
 eral generations of&nbsp\;homeschoolers in the art of ballroom dance. Stud
 ents and parents benefit from the&nbsp\;training in social graces as well 
 as the opportunity to spend time with other&nbsp\;home schoolers.&nbsp\;

  This is not a drop off program. If your student is not accompanied by an 
 adult\, they will not be able to participate in the program.
 Anyone unde
 r the age of 18 will need to have a registered parent or guardian present 
 at the workshop/ball.
 Open to non-WISDOM families\; WISDOM families take
  precedence.
DTSTART:20260530T153000Z
DTEND:20260531T040000Z
DTSTAMP:20260423T025531Z
ORGANIZER;CN=WISDOM Home Schooling:MAILTO:no-reply@wisdomhomeschooling.com
END:VEVENT
BEGIN:VEVENT
UID:69e98a23a17a3
SUMMARY:Spring Foraging - Red Deer <span>E1098</span>
DESCRIPTION:When:&nbsp\;1 June\, 1:00–3:00 p.m. Where: Red Deer – Kin K
 anyon
DTSTART:20260601T190000Z
DTEND:20260601T210000Z
DTSTAMP:20260423T025531Z
ORGANIZER;CN=WISDOM Home Schooling:MAILTO:no-reply@wisdomhomeschooling.com
END:VEVENT
BEGIN:VEVENT
UID:69e98a23a1865
SUMMARY:Spring Foraging - Stony Plain <span>E1099</span>
DESCRIPTION:When:&nbsp\;2 June\, 1:00–3:00 p.m. Where:&nbsp\;Stony Plain 
 - Chickakoo Recreation Area (Meet at upper Parking Lot)
DTSTART:20260602T190000Z
DTEND:20260602T210000Z
DTSTAMP:20260423T025531Z
ORGANIZER;CN=WISDOM Home Schooling:MAILTO:no-reply@wisdomhomeschooling.com
END:VEVENT
BEGIN:VEVENT
UID:69e98a23a1958
SUMMARY:Spring Foraging - Edmonton <span>E1100</span>
DESCRIPTION:When:&nbsp\;3 June\, 1:00–3:00 p.m. Where:&nbsp\;Edmonton - S
 ir Wilfred Laurier Park (Site 7)
DTSTART:20260603T190000Z
DTEND:20260603T210000Z
DTSTAMP:20260423T025531Z
ORGANIZER;CN=WISDOM Home Schooling:MAILTO:no-reply@wisdomhomeschooling.com
END:VEVENT
BEGIN:VEVENT
UID:69e98a23a1a4b
SUMMARY:Spring Survival Campout - Athabasca <span>E1103</span>
DESCRIPTION:When: June 6–7 Where: 1 hour north of Edmonton
DTSTART:20260606T190000Z
DTEND:20260607T210000Z
DTSTAMP:20260423T025531Z
ORGANIZER;CN=WISDOM Home Schooling:MAILTO:no-reply@wisdomhomeschooling.com
END:VEVENT
BEGIN:VEVENT
UID:69e98a23a1b10
SUMMARY:Spring Wilderness Skills Day - Derwent <span>E1106</span>
DESCRIPTION:When: June 8 Where: Derwent
DTSTART:20260608T160000Z
DTEND:20260608T220000Z
DTSTAMP:20260423T025531Z
ORGANIZER;CN=WISDOM Home Schooling:MAILTO:no-reply@wisdomhomeschooling.com
END:VEVENT
BEGIN:VEVENT
UID:69e98a23a1bd1
SUMMARY:Spring Foraging - Calgary <span>E1101</span>
DESCRIPTION:When:&nbsp\;9 June\, 1:00–3:00 p.m. Where:&nbsp\;Calgary - Ca
 rburn Park
DTSTART:20260609T190000Z
DTEND:20260609T210000Z
DTSTAMP:20260423T025531Z
ORGANIZER;CN=WISDOM Home Schooling:MAILTO:no-reply@wisdomhomeschooling.com
END:VEVENT
BEGIN:VEVENT
UID:69e98a23a1c91
SUMMARY:CLT (College Entrance Exam & Grade 11-12 Assessment) June
DESCRIPTION:The Classical Learning Test (CLT) is a post-secondary entrance 
 exam\, created as an alternative to the SAT and recognized at many post-se
 condary institutions across the United States\, and a growing number in Ca
 nada.
 
 For students in grades 11-12
 College entrance exam
 Online f
 ormat
 Length: 2hrs (plus up to 30 mins proctor instructions)
 Free and 
 unlimited score sharing
 CLT partner colleges offer over $100 million in 
 scholarships
 
DTSTART:20260611T060000Z
DTSTAMP:20260423T025531Z
ORGANIZER;CN=WISDOM Home Schooling:MAILTO:no-reply@wisdomhomeschooling.com
END:VEVENT
BEGIN:VEVENT
UID:69e98a23a1d37
SUMMARY:Basics & Intermediate Ballroom Weekend - Lethbridge Area B <span>E1
 052</span>
DESCRIPTION:See pricing and register for one or both days below!
 When: Ba
 sics: June 12\, 1:00–9:30 p.m. — bring a packed supper Intermediate: J
 une 13\, 9:00 a.m.–11:00 p.m. — bring a bag lunch\, and a main dish pl
 us a salad or dessert for the potluck supper
 Ball: June 13\, beginning a
 t 7:00 p.m. Please bring a change of clothes for the ball. Semi-formal to 
 formal attire.
 Where: Raymond Agricultural Society Heritage Centre (The 
 Barn)\, 98E Park Street\, Raymond\, Alberta
 Want the full ballroom exper
 ience? Register for both workshops together and enjoy the best of both wor
 lds. You will learn the basics—such as the waltz\, rumba\, foxtrot\, and
  jive—while also strengthening your skills and adding new steps along th
 e way. Instructors Mike and Michele Barter guide students through the fund
 amentals and then help them progress to additional dances\, including the 
 cha-cha and samba.
 These workshops reinforce ballroom etiquette and the 
 life skills that grow from practicing courtesy. Students and parents alike
  benefit from training in social graces\, as well as the opportunity to sp
 end time with other homeschooling families.
 By registering for both even
 ts together\, you secure your place in the full program and enjoy a seamle
 ss progression from introductory to more advanced dances. Generations of h
 omeschoolers have learned with Mike and Michele—and now you can too.
 T
 his is not a drop-off program. Students must be accompanied by an adult to
  participate.
 Open to non-WISDOM families\; WISDOM families receive prio
 rity registration.
DTSTART:20260612T190000Z
DTEND:20260614T050000Z
DTSTAMP:20260423T025531Z
ORGANIZER;CN=WISDOM Home Schooling:MAILTO:no-reply@wisdomhomeschooling.com
END:VEVENT
BEGIN:VEVENT
UID:69e98a23a1e1e
SUMMARY:Indoor Rock Wall Climbing - Edmonton T <span>E1096</span>
DESCRIPTION:When:&nbsp\;June 16 from 10 - 12pmWhere:&nbsp\;Vertically Incli
 ned 8523 Argyll Road Edmonton\, Alberta
 Aimed towards the first-timer\, 
 this 2 hour session allows participants to learn about the sport of climbi
 ng through hands-on (and feet-on) skills.
 Ages 6 and up.&nbsp\;This is n
 ot a drop off program. If your student is not accompanied by an adult\, th
 ey will not be able to participate in the program. Parents may register an
 d climb as well if they wish.&nbsp\;
 Climbing shoes will be provided for
  sessions. Participants can bring in comfortable clothes\, and socks to we
 ar in the climbing shoes.
 A waiver from Vertically Inclined will be sent
  with the registration confirmation.&nbsp\;Please fill out one for each cl
 imber and send them back!
DTSTART:20260616T160000Z
DTEND:20260616T180000Z
DTSTAMP:20260423T025531Z
ORGANIZER;CN=WISDOM Home Schooling:MAILTO:no-reply@wisdomhomeschooling.com
END:VEVENT
BEGIN:VEVENT
UID:69e98a23a1ee4
SUMMARY:CLT 10 (College Preparatory Exam & Grade 9-10 Assessment) - June
DESCRIPTION:The Classical Learning Test 10 (CLT10) is for students in grade
 s 10 or 11. These tests focus on numeracy and literacy\, and can be a usef
 ul evaluation tool\, as well as a CLT preparatory exam. CLT can be conveni
 ently accessed from home.&nbsp\;
 
 For students in grades 9-10
 Colleg
 e preparatory exam&nbsp\;
 Free and unlimited score sharing&nbsp\;
 Diag
 nostic and summative exams to track growth and provide academic assessment
 
 Norm-Referenced
 Online format - Parent Proctored
 Length: 2hrs (plus
  up to 30 mins proctor instructions)
 
DTSTART:20260617T060000Z
DTSTAMP:20260423T025531Z
ORGANIZER;CN=WISDOM Home Schooling:MAILTO:no-reply@wisdomhomeschooling.com
END:VEVENT
BEGIN:VEVENT
UID:69e98a23a1f6a
SUMMARY:Spring Foraging - Lethbridge <span>E1102</span>
DESCRIPTION:When:&nbsp\;19 June\, 1:00–3:00 p.m. Where:&nbsp\;Lethbridge 
 - Indian Battle Park&nbsp\;(Alberta Shelter)
DTSTART:20260619T190000Z
DTEND:20260619T210000Z
DTSTAMP:20260423T025531Z
ORGANIZER;CN=WISDOM Home Schooling:MAILTO:no-reply@wisdomhomeschooling.com
END:VEVENT
END:VCALENDAR